BEGIN:VCALENDAR
VERSION:2.0
PRODID:-//Tukios.com/
BEGIN:VEVENT
UID:154d493e-6bb2-4841-9708-384e10c98549@www.cremationsociety-wi.com
DTSTAMP:20260419T195459Z
DTSTART:20260501T210000Z
DTEND:20260502T000000Z
SUMMARY:Celebration of Life
DESCRIPTION:
URL:https://www.cremationsociety-wi.com/obituaries/ryker-borton
LOCATION:Birch Pavilion - Carson Park   Eau Claire WI 54703
GEO:44.8594192;-91.5015009
END:VEVENT
END:VCALENDAR