BEGIN:VCALENDAR
VERSION:2.0
PRODID:-//Tukios.com/
BEGIN:VEVENT
UID:a7868c14-20f9-450d-a8a2-310e831e0541@www.cremationsociety-wi.com
DTSTAMP:20260421T020757Z
DTSTART:20260429T160000Z
DTEND:20260429T170000Z
SUMMARY:Memorial Service
DESCRIPTION:
URL:https://www.cremationsociety-wi.com/obituaries/louise-partlow
LOCATION:Plymouth United Church of Christ 2010 W Moholt Dr  Eau Claire WI 
	54703
GEO:44.8247255;-91.5368962
END:VEVENT
END:VCALENDAR