BEGIN:VCALENDAR
VERSION:2.0
PRODID:-//Tukios.com/
BEGIN:VEVENT
UID:a6456f5d-d761-4846-b994-122c04d20344@www.cremationsociety-wi.com
DTSTAMP:20260423T223258Z
DTSTART:20260430T150000Z
DTEND:20260430T160000Z
SUMMARY:Visitation
DESCRIPTION:
URL:https://www.cremationsociety-wi.com/obituaries/bonnie-lanza
LOCATION:Pentecostal Assembly Church 9 9th Avenue  Eau Claire WI 54701
GEO:44.8009328;-91.5174412
END:VEVENT
END:VCALENDAR