BEGIN:VCALENDAR
VERSION:2.0
PRODID:-//Tukios.com/
BEGIN:VEVENT
UID:21f317d8-ba84-4d62-8623-00b22eca89dd@www.cremationsociety-wi.com
DTSTAMP:20260423T223742Z
DTSTART:20260430T160000Z
DTEND:20260430T170000Z
SUMMARY:Funeral Service
DESCRIPTION:
URL:https://www.cremationsociety-wi.com/obituaries/bonnie-lanza
LOCATION:Pentecostal Assembly Church 9 9th Avenue  Eau Claire WI 54701
GEO:44.8009328;-91.5174412
END:VEVENT
END:VCALENDAR