BEGIN:VCALENDAR
VERSION:2.0
PRODID:-//Tukios.com/
BEGIN:VEVENT
UID:d368a1a9-e8f9-4880-bced-2fffce6a2267@www.cremationsociety-wi.com
DTSTAMP:20260423T223258Z
DTSTART:20260430T191500Z
DTEND:20260430T194500Z
SUMMARY:Graveside Service
DESCRIPTION:
URL:https://www.cremationsociety-wi.com/obituaries/bonnie-lanza
LOCATION:Lakeview Cemetery 1500 Buffington Dr  Eau Claire WI 54703
GEO:44.81052;-91.5287305
END:VEVENT
END:VCALENDAR